BEGIN:VCALENDAR
VERSION:2.0
PRODID:-//CERN//INDICO//EN
BEGIN:VEVENT
SUMMARY:Status of MELODY
DTSTART;VALUE=DATE-TIME:20260425T014500Z
DTEND;VALUE=DATE-TIME:20260425T021500Z
DTSTAMP;VALUE=DATE-TIME:20260424T053841Z
UID:indico-contribution-2339@indico.itp.ac.cn
DESCRIPTION:Speakers: Yu Bao / Chen Wu (CSNS\, IHEP) ()\nhttps://indico.it
 p.ac.cn/event/384/contributions/2339/
LOCATION:
URL:https://indico.itp.ac.cn/event/384/contributions/2339/
END:VEVENT
END:VCALENDAR
