BEGIN:VCALENDAR
VERSION:2.0
PRODID:-//CERN//INDICO//EN
BEGIN:VEVENT
SUMMARY:The GeV Muon Beam at the HIAF Facility: Opportunities for Muon Phy
 sics
DTSTART;VALUE=DATE-TIME:20260425T011500Z
DTEND;VALUE=DATE-TIME:20260425T014500Z
DTSTAMP;VALUE=DATE-TIME:20260424T084407Z
UID:indico-contribution-2338@indico.itp.ac.cn
DESCRIPTION:Speakers: Liangwen Chen (IMP\, CAS) ()\nhttps://indico.itp.ac.
 cn/event/384/contributions/2338/
LOCATION:
URL:https://indico.itp.ac.cn/event/384/contributions/2338/
END:VEVENT
END:VCALENDAR
