BEGIN:VCALENDAR
VERSION:2.0
PRODID:-//CERN//INDICO//EN
BEGIN:VEVENT
SUMMARY:Progress and status of HIAF project
DTSTART;VALUE=DATE-TIME:20260425T004500Z
DTEND;VALUE=DATE-TIME:20260425T011500Z
DTSTAMP;VALUE=DATE-TIME:20260424T041422Z
UID:indico-contribution-2337@indico.itp.ac.cn
DESCRIPTION:Speakers: Jiancheng Yang (IMP\, CAS) ()\nhttps://indico.itp.ac
 .cn/event/384/contributions/2337/
LOCATION:
URL:https://indico.itp.ac.cn/event/384/contributions/2337/
END:VEVENT
END:VCALENDAR
