BEGIN:VCALENDAR
VERSION:2.0
PRODID:-//CERN//INDICO//EN
BEGIN:VEVENT
SUMMARY:Opening Remarks
DTSTART;VALUE=DATE-TIME:20260425T003000Z
DTEND;VALUE=DATE-TIME:20260425T004500Z
DTSTAMP;VALUE=DATE-TIME:20260424T054236Z
UID:indico-contribution-2336@indico.itp.ac.cn
DESCRIPTION:Speakers: Leader (IMP\, CAS)\nhttps://indico.itp.ac.cn/event/3
 84/contributions/2336/
LOCATION:
URL:https://indico.itp.ac.cn/event/384/contributions/2336/
END:VEVENT
END:VCALENDAR
